BEGIN:VCALENDAR
VERSION:2.0
PRODID:-//ChamberMaster//Event Calendar 2.0//EN
METHOD:PUBLISH
X-PUBLISHED-TTL:P1H
REFRESH-INTERVAL:P1H
CALSCALE:GREGORIAN
BEGIN:VTIMEZONE
TZID:America/Los_Angeles
BEGIN:DAYLIGHT
RRULE:FREQ=YEARLY;BYMONTH=3;BYDAY=2SU
DTSTART:20070101T000000
TZOFFSETFROM:-0800
TZOFFSETTO:-0700
TZNAME:Pacific Daylight Time
END:DAYLIGHT
BEGIN:STANDARD
RRULE:FREQ=YEARLY;BYMONTH=11;BYDAY=1SU
DTSTART:20070101T000000
TZOFFSETFROM:-0700
TZOFFSETTO:-0800
TZNAME:Pacific Standard Time
END:STANDARD
END:VTIMEZONE
BEGIN:VEVENT
DTSTART;TZID=America/Los_Angeles:20260429T153000
DTEND;TZID=America/Los_Angeles:20260429T180000
X-MICROSOFT-CDO-ALLDAYEVENT:FALSE
SUMMARY:Are You're Protected? The Cybersecurity Reality Check
DESCRIPTION:Think your IT is protected? Join WaFd and Lifeline Computer Solutions to uncover gaps in your security strategy\, explore insurance coverage\, and ask crucial questions!Are You Really Protected? The Cybersecurity Reality Check Every Organization NeedsMost leaders think they're doing the right things to protect their organization. You have IT support. You have insurance. You're keeping up with your business's regulatory requirements\, so you assume you're not a target. But the truth is far less comfortable.In this eye‑opening seminar\, we offer real-life examples that reveal the gaps most organizations never see. You'll discover why traditional IT support doesn't cover everything\, what does my current insurance policy actually cover\, and why compliance whether required or not doesn't equal security.This session is designed for leaders who want clarity. We'll help you answer the questions that matter:  Am I actually covered?  What risks am I not seeing?  What questions should I be asking my IT team\, my insurer\, and my executive team?  Where are my blind spots and how do I fix them?If you've ever wondered\, "Are we doing enough?" this seminar will give you the confidence to finally know.Get your tickets here:  : https://www.eventbrite.com/e/are-youre-protected-the-cybersecurity-reality-check-tickets-1979899781544?utm-campaign=social&utm-content=attendeeshare&utm-medium=discovery&utm-term=listing&utm-source=cp&aff=ebdsshcopyurl
X-ALT-DESC;FMTTYPE=text/html:<!DOCTYPE html><html><head><title></title></head><body aria-disabled="false"><div data-testid="text-content" style='box-sizing: border-box\; padding: 0px\; margin: 0px\; color: rgb(88\, 81\, 99)\; align-self: stretch\; overflow: hidden\; text-overflow: ellipsis\; font-weight: 400\; line-height: 23.94px\; letter-spacing: 0.1px\; font-size: 18px\; font-family: "Neue Plak"\, -apple-system\, BlinkMacSystemFont\, Roboto\, "Helvetica Neue"\, Helvetica\, Tahoma\, Arial\, sans-serif\; font-style: normal\; font-variant-ligatures: normal\; font-variant-caps: normal\; orphans: 2\; text-align: start\; text-indent: 0px\; text-transform: none\; widows: 2\; word-spacing: 0px\; -webkit-text-stroke-width: 0px\; white-space: normal\; text-decoration-thickness: initial\; text-decoration-style: initial\; text-decoration-color: initial\;'><div style="box-sizing: border-box\; padding: 0px\; margin: 0px\;"><p style="box-sizing: border-box\; padding: 0px 0px 12px\; margin: 0px\;">Think your IT is protected? Join WaFd and Lifeline Computer Solutions to uncover gaps in your security strategy\, explore insurance coverage\, and ask crucial questions!</p></div></div><div data-testid="text-content" style='box-sizing: border-box\; padding: 0px\; margin: 0px\; color: rgb(88\, 81\, 99)\; align-self: stretch\; overflow: hidden\; text-overflow: ellipsis\; font-weight: 400\; line-height: 23.94px\; letter-spacing: 0.1px\; font-size: 18px\; font-family: "Neue Plak"\, -apple-system\, BlinkMacSystemFont\, Roboto\, "Helvetica Neue"\, Helvetica\, Tahoma\, Arial\, sans-serif\; font-style: normal\; font-variant-ligatures: normal\; font-variant-caps: normal\; orphans: 2\; text-align: start\; text-indent: 0px\; text-transform: none\; widows: 2\; word-spacing: 0px\; -webkit-text-stroke-width: 0px\; white-space: normal\; text-decoration-thickness: initial\; text-decoration-style: initial\; text-decoration-color: initial\;'><div style="box-sizing: border-box\; padding: 0px\; margin: 0px\;"><p style="box-sizing: border-box\; padding: 0px 0px 12px\; margin: 0px\;"><strong fr-original-style="box-sizing: border-box\; padding: 0px\; margin: 0px\; font-weight: 600\;" style="box-sizing: border-box\; padding: 0px\; margin: 0px\; font-weight: 600\;"><strong fr-original-style="box-sizing: border-box\; padding: 0px\; margin: 0px\; font-weight: 600\;" style="box-sizing: border-box\; padding: 0px\; margin: 0px\; font-weight: 600\;">Are You Really Protected? The Cybersecurity Reality Check Every Organization Needs</strong></strong></p><p style="box-sizing: border-box\; padding: 0px 0px 12px\; margin: 12px 0px 0px\;">Most leaders <em style="box-sizing: border-box\; padding: 0px\; margin: 0px\;"><em style="box-sizing: border-box\; padding: 0px\; margin: 0px\;">think</em></em> they&rsquo\;re doing the right things to protect their organization. You have IT support. You have insurance. You&rsquo\;re keeping up with your business&#39\;s regulatory requirements\,<strong fr-original-style="box-sizing: border-box\; padding: 0px\; margin: 0px\; font-weight: 600\;" style="box-sizing: border-box\; padding: 0px\; margin: 0px\; font-weight: 600\;"><strong fr-original-style="box-sizing: border-box\; padding: 0px\; margin: 0px\; font-weight: 600\;" style="box-sizing: border-box\; padding: 0px\; margin: 0px\; font-weight: 600\;">&nbsp\;</strong></strong>so you assume you&rsquo\;re not a target. But the truth is far less comfortable.</p><p style="box-sizing: border-box\; padding: 0px 0px 12px\; margin: 12px 0px 0px\;">In this eye‑opening seminar\, we offer real-life examples that reveal the gaps most organizations never see. You&rsquo\;ll discover why traditional IT support doesn&rsquo\;t cover everything\, what does my current insurance policy actually cover\, and why compliance&mdash\;whether required or not&mdash\;doesn&rsquo\;t equal security.</p><p style="box-sizing: border-box\; padding: 0px 0px 12px\; margin: 12px 0px 0px\;">This session is designed for leaders who want clarity. We&rsquo\;ll help you answer the questions that matter:</p><p style="box-sizing: border-box\; padding: 0px 0px 12px\; margin: 12px 0px 0px\;">&middot\; Am I actually covered?</p><p style="box-sizing: border-box\; padding: 0px 0px 12px\; margin: 12px 0px 0px\;">&middot\; What risks am I not seeing?</p><p style="box-sizing: border-box\; padding: 0px 0px 12px\; margin: 12px 0px 0px\;">&middot\; What questions should I be asking my IT team\, my insurer\, and my executive team?</p><p style="box-sizing: border-box\; padding: 0px 0px 12px\; margin: 12px 0px 0px\;">&middot\; Where are my blind spots&mdash\;and how do I fix them?</p><p style="box-sizing: border-box\; padding: 0px 0px 12px\; margin: 12px 0px 0px\;">If you&rsquo\;ve ever wondered\, <em style="box-sizing: border-box\; padding: 0px\; margin: 0px\;"><em style="box-sizing: border-box\; padding: 0px\; margin: 0px\;">&ldquo\;Are we doing enough?&rdquo\;</em></em> this seminar will give you the confidence to finally know.</p><p style="box-sizing: border-box\; padding: 0px 0px 12px\; margin: 12px 0px 0px\;">Get your tickets here: &nbsp\;: <a fr-original-style="" href="https://www.eventbrite.com/e/are-youre-protected-the-cybersecurity-reality-check-tickets-1979899781544?utm-campaign=social&utm-content=attendeeshare&utm-medium=discovery&utm-term=listing&utm-source=cp&aff=ebdsshcopyurl" style="user-select: auto\;">https://www.eventbrite.com/e/are-youre-protected-the-cybersecurity-reality-check-tickets-1979899781544?utm-campaign=social&amp\;utm-content=attendeeshare&amp\;utm-medium=discovery&amp\;utm-term=listing&amp\;utm-source=cp&amp\;aff=ebdsshcopyurl</a></p></div></div></body></html>
LOCATION:2660 Hillcrest Rd Medford 97504
UID:e.3649.1440428
SEQUENCE:3
DTSTAMP:20260421T111017Z
URL:https://business.medfordchamber.com/chamber-event-calendar/Details/are-you-re-protected-the-cybersecurity-reality-check-1705279?sourceTypeId=Hub
END:VEVENT
END:VCALENDAR
