BEGIN:VCALENDAR
VERSION:2.0
PRODID:-//ChamberMaster//Event Calendar 2.0//EN
METHOD:PUBLISH
X-PUBLISHED-TTL:P1H
REFRESH-INTERVAL:P1H
CALSCALE:GREGORIAN
BEGIN:VTIMEZONE
TZID:America/Los_Angeles
BEGIN:DAYLIGHT
RRULE:FREQ=YEARLY;BYMONTH=3;BYDAY=2SU
DTSTART:20070101T000000
TZOFFSETFROM:-0800
TZOFFSETTO:-0700
TZNAME:Pacific Daylight Time
END:DAYLIGHT
BEGIN:STANDARD
RRULE:FREQ=YEARLY;BYMONTH=11;BYDAY=1SU
DTSTART:20070101T000000
TZOFFSETFROM:-0700
TZOFFSETTO:-0800
TZNAME:Pacific Standard Time
END:STANDARD
END:VTIMEZONE
BEGIN:VEVENT
DTSTART;TZID=America/Los_Angeles:20260421T090000
DTEND;TZID=America/Los_Angeles:20260421T113000
X-MICROSOFT-CDO-ALLDAYEVENT:FALSE
SUMMARY:Don't Get Hacked: The Business Owner's Survival Map
DESCRIPTION:One phishing email is all it takes to shut down a business. Small businesses aren't too small to hack\, they're just easier. This hands-on cybersecurity survival class breaks down what small business owners actually need to know (no tech jargon required)\, what you can safely ignore\, and how to avoid becoming the next cautionary tale. Bring your questions and we'll wrap up with open Q&A and practical takeaways you can use immediately.Register online - https://www.bbsi.com/business-owner-resources/events/bbsi-southern-oregon-dont-get-hacked-the-business-owners-survival-map
X-ALT-DESC;FMTTYPE=text/html:<!DOCTYPE html><html><head><title></title></head><body aria-disabled="false"><p style="box-sizing: border-box\; scroll-margin-top: 90px\; margin-bottom: 1.55556rem\; margin-top: 0px\; color: rgb(73\, 74\, 82)\; font-family: Lato\; font-size: 20px\; font-style: normal\; font-variant-ligatures: normal\; font-variant-caps: normal\; font-weight: 400\; letter-spacing: normal\; orphans: 2\; text-align: start\; text-indent: 0px\; text-transform: none\; widows: 2\; word-spacing: 0px\; -webkit-text-stroke-width: 0px\; white-space: normal\; background-color: rgb(255\, 255\, 255)\; text-decoration-thickness: initial\; text-decoration-style: initial\; text-decoration-color: initial\;"><span style="font-family: Arial\, Helvetica\, sans-serif\; font-size: 12px\;">One phishing email is all it takes to shut down a business. Small businesses aren&rsquo\;t too small to hack\, they&rsquo\;re just easier. This hands-on cybersecurity survival class breaks down what small business owners actually need to know (no tech jargon required)\, what you can safely ignore\, and how to avoid becoming the next cautionary tale. Bring your questions and we&rsquo\;ll wrap up with open Q&amp\;A and practical takeaways you can use immediately.</span></p><p><span style="font-family: Arial\, Helvetica\, sans-serif\; font-size: 12px\;">Register online - https://www.bbsi.com/business-owner-resources/events/bbsi-southern-oregon-dont-get-hacked-the-business-owners-survival-map</span></p></body></html>
LOCATION:2045 Cardinal Ave Medford OR
UID:e.3649.1438483
SEQUENCE:3
DTSTAMP:20260421T111416Z
URL:https://business.medfordchamber.com/chamber-event-calendar/Details/don-t-get-hacked-the-business-owner-s-survival-map-1702590?sourceTypeId=Hub
END:VEVENT
END:VCALENDAR
