BEGIN:VCALENDAR
VERSION:2.0
PRODID:-//ChamberMaster//Event Calendar 2.0//EN
METHOD:PUBLISH
X-PUBLISHED-TTL:P1H
REFRESH-INTERVAL:P1H
CALSCALE:GREGORIAN
BEGIN:VTIMEZONE
TZID:America/Los_Angeles
BEGIN:DAYLIGHT
RRULE:FREQ=YEARLY;BYMONTH=3;BYDAY=2SU
DTSTART:20070101T000000
TZOFFSETFROM:-0800
TZOFFSETTO:-0700
TZNAME:Pacific Daylight Time
END:DAYLIGHT
BEGIN:STANDARD
RRULE:FREQ=YEARLY;BYMONTH=11;BYDAY=1SU
DTSTART:20070101T000000
TZOFFSETFROM:-0700
TZOFFSETTO:-0800
TZNAME:Pacific Standard Time
END:STANDARD
END:VTIMEZONE
BEGIN:VEVENT
DTSTART;TZID=America/Los_Angeles:20260911T100000
DTEND;TZID=America/Los_Angeles:20260911T110000
X-MICROSOFT-CDO-ALLDAYEVENT:FALSE
SUMMARY:EAIP - Preferred Worker Programs
DESCRIPTION:This session explains Employer-at-Injury Programs (EAIP) and Preferred Worker Programs and how they reduce workers' compensation costs. Participants will learn how to leverage available incentives effectively.Learning Objectives:Understand program eligibility and benefitsIdentify financial incentives available to employersCoordinate return-to-work efforts effectivelyReduce claim duration and premium impact\nRegister online - https://www.bbsi.com/business-owner-resources/events/bbsi-southern-oregon-eaip-preferred-worker-programs
X-ALT-DESC;FMTTYPE=text/html:<!DOCTYPE html><html><head><title></title></head><body aria-disabled="false"><p style="box-sizing: border-box\; scroll-margin-top: 90px\; margin-bottom: 1.55556rem\; margin-top: 0px\; color: rgb(73\, 74\, 82)\; font-family: Lato\; font-size: 20px\; font-style: normal\; font-variant-ligatures: normal\; font-variant-caps: normal\; font-weight: 400\; letter-spacing: normal\; orphans: 2\; text-align: start\; text-indent: 0px\; text-transform: none\; widows: 2\; word-spacing: 0px\; -webkit-text-stroke-width: 0px\; white-space: normal\; background-color: rgb(255\, 255\, 255)\; text-decoration-thickness: initial\; text-decoration-style: initial\; text-decoration-color: initial\;"><span style="font-size: 12px\; font-family: Arial\, Helvetica\, sans-serif\;">This session explains Employer-at-Injury Programs (EAIP) and Preferred Worker Programs and how they reduce workers&rsquo\; compensation costs. Participants will learn how to leverage available incentives effectively.</span></p><p style="box-sizing: border-box\; scroll-margin-top: 90px\; margin-bottom: 1.55556rem\; margin-top: 0px\; color: rgb(73\, 74\, 82)\; font-family: Lato\; font-size: 20px\; font-style: normal\; font-variant-ligatures: normal\; font-variant-caps: normal\; font-weight: 400\; letter-spacing: normal\; orphans: 2\; text-align: start\; text-indent: 0px\; text-transform: none\; widows: 2\; word-spacing: 0px\; -webkit-text-stroke-width: 0px\; white-space: normal\; background-color: rgb(255\, 255\, 255)\; text-decoration-thickness: initial\; text-decoration-style: initial\; text-decoration-color: initial\;"><span style="font-family: Arial\,Helvetica\,sans-serif\;"><span style="font-size: 12px\;"><strong fr-original-style="box-sizing: border-box\; scroll-margin-top: 90px\; font-weight: bolder\;" style="box-sizing: border-box\; scroll-margin-top: 90px\; font-weight: bolder\;"><span style="box-sizing: border-box\; scroll-margin-top: 90px\;">Learning Objectives:</span></strong></span></span></p><ul fr-original-style="box-sizing: border-box\; scroll-margin-top: 90px\; margin-top: 0px\; margin-bottom: 1rem\; padding-left: 2rem\; font-size: 20px\; line-height: 1.15\; list-style: square\; color: rgb(73\, 74\, 82)\; font-family: Lato\; font-style: normal\; font-variant-ligatures: normal\; font-variant-caps: normal\; font-weight: 400\; letter-spacing: normal\; orphans: 2\; text-align: start\; text-indent: 0px\; text-transform: none\; widows: 2\; word-spacing: 0px\; -webkit-text-stroke-width: 0px\; white-space: normal\; background-color: rgb(255\, 255\, 255)\; text-decoration-thickness: initial\; text-decoration-style: initial\; text-decoration-color: initial\;" style="box-sizing: border-box\; scroll-margin-top: 90px\; margin-top: 0px\; margin-bottom: 1rem\; padding-left: 2rem\; font-size: 20px\; line-height: 1.15\; list-style: square\; color: rgb(73\, 74\, 82)\; font-family: Lato\; font-style: normal\; font-variant-ligatures: normal\; font-variant-caps: normal\; font-weight: 400\; letter-spacing: normal\; orphans: 2\; text-align: start\; text-indent: 0px\; text-transform: none\; widows: 2\; word-spacing: 0px\; -webkit-text-stroke-width: 0px\; white-space: normal\; background-color: rgb(255\, 255\, 255)\; text-decoration-thickness: initial\; text-decoration-style: initial\; text-decoration-color: initial\;"><li style="box-sizing: border-box\; scroll-margin-top: 90px\; font-size: 12px\; line-height: 1.15\; font-family: Arial\, Helvetica\, sans-serif\; font-style: normal\; font-weight: 400\; text-decoration: none\; margin-bottom: 0.555556rem\; vertical-align: middle\;"><span style="box-sizing: border-box\; scroll-margin-top: 90px\;">Understand program eligibility and benefits</span></li><li style="box-sizing: border-box\; scroll-margin-top: 90px\; font-size: 12px\; line-height: 1.15\; font-family: Arial\, Helvetica\, sans-serif\; font-style: normal\; font-weight: 400\; text-decoration: none\; margin-bottom: 0.555556rem\; vertical-align: middle\;"><span style="box-sizing: border-box\; scroll-margin-top: 90px\;">Identify financial incentives available to employers</span></li><li style="box-sizing: border-box\; scroll-margin-top: 90px\; font-size: 12px\; line-height: 1.15\; font-family: Arial\, Helvetica\, sans-serif\; font-style: normal\; font-weight: 400\; text-decoration: none\; margin-bottom: 0.555556rem\; vertical-align: middle\;"><span style="box-sizing: border-box\; scroll-margin-top: 90px\;">Coordinate return-to-work efforts effectively</span></li><li style="box-sizing: border-box\; scroll-margin-top: 90px\; font-size: 12px\; line-height: 1.15\; font-family: Arial\, Helvetica\, sans-serif\; font-style: normal\; font-weight: 400\; text-decoration: none\; margin-bottom: 0.555556rem\; vertical-align: middle\;"><span style="box-sizing: border-box\; scroll-margin-top: 90px\;">Reduce claim duration and premium impact</span></li></ul><p><span style="font-family: Arial\,Helvetica\,sans-serif\;"><span style="font-size: 12px\;"><br></span></span></p><p><span style="box-sizing: border-box\; scroll-margin-top: 90px\;"><span style="font-size: 12px\; font-family: Arial\, Helvetica\, sans-serif\;">Register online - https://www.bbsi.com/business-owner-resources/events/bbsi-southern-oregon-eaip-preferred-worker-programs</span><br></span></p></body></html>
LOCATION:2045 Cardinal Ava Medford OR
UID:e.3649.1438518
SEQUENCE:3
DTSTAMP:20260421T105036Z
URL:https://business.medfordchamber.com/chamber-event-calendar/Details/eaip-preferred-worker-programs-1702645?sourceTypeId=Hub
END:VEVENT
END:VCALENDAR
