BEGIN:VCALENDAR
VERSION:2.0
PRODID:-//ChamberMaster//Event Calendar 2.0//EN
METHOD:PUBLISH
X-PUBLISHED-TTL:P1H
REFRESH-INTERVAL:P1H
CALSCALE:GREGORIAN
BEGIN:VTIMEZONE
TZID:America/Los_Angeles
BEGIN:DAYLIGHT
RRULE:FREQ=YEARLY;BYMONTH=3;BYDAY=2SU
DTSTART:20070101T000000
TZOFFSETFROM:-0800
TZOFFSETTO:-0700
TZNAME:Pacific Daylight Time
END:DAYLIGHT
BEGIN:STANDARD
RRULE:FREQ=YEARLY;BYMONTH=11;BYDAY=1SU
DTSTART:20070101T000000
TZOFFSETFROM:-0700
TZOFFSETTO:-0800
TZNAME:Pacific Standard Time
END:STANDARD
END:VTIMEZONE
BEGIN:VEVENT
DTSTART;TZID=America/Los_Angeles:20260429T110000
DTEND;TZID=America/Los_Angeles:20260429T120000
X-MICROSOFT-CDO-ALLDAYEVENT:FALSE
SUMMARY:Final Expense Insurance: Peace of Mind for Your Loved Ones
DESCRIPTION:Protect your legacy by making a plan today.\n\nEnd-of-life costs have increased by 41% in the last 14 years\, and can now average $15\,000 or more.\n\nAs an experienced local independent agent\, I work for you. I can help you create a plan that will ensure you have adequate coverage in place to take care of your funeral needs while providing protection for your loved ones when they need it most. There will never be a better time than now to set up a plan\, since premiums are based on your current age.\n\nCome find out more at a meeting in your area.\n\nMelissa Shreeve\nmelissa@shreeveinsurance.com\n541.601.5305\nLicense Number 15202422
X-ALT-DESC;FMTTYPE=text/html:Protect your legacy by making a plan today.\n\nEnd-of-life costs have increased by 41% in the last 14 years\, and can now average $15\,000 or more.\n\nAs an experienced local independent agent\, I work for you. I can help you create a plan that will ensure you have adequate coverage in place to take care of your funeral needs while providing protection for your loved ones when they need it most. There will never be a better time than now to set up a plan\, since premiums are based on your current age.\n\nCome find out more at a meeting in your area.\n\nMelissa Shreeve\nmelissa@shreeveinsurance.com\n541.601.5305\nLicense Number 15202422
LOCATION:205 S Central Ave Medford OR 97501
UID:e.3649.1440543
SEQUENCE:3
DTSTAMP:20260421T110245Z
URL:https://business.medfordchamber.com/chamber-event-calendar/Details/final-expense-insurance-peace-of-mind-for-your-loved-ones-1705535?sourceTypeId=Hub
END:VEVENT
END:VCALENDAR
