BEGIN:VCALENDAR
VERSION:2.0
PRODID:-//ChamberMaster//Event Calendar 2.0//EN
METHOD:PUBLISH
X-PUBLISHED-TTL:P1H
REFRESH-INTERVAL:P1H
CALSCALE:GREGORIAN
BEGIN:VTIMEZONE
TZID:America/Los_Angeles
BEGIN:DAYLIGHT
RRULE:FREQ=YEARLY;BYMONTH=3;BYDAY=2SU
DTSTART:20070101T000000
TZOFFSETFROM:-0800
TZOFFSETTO:-0700
TZNAME:Pacific Daylight Time
END:DAYLIGHT
BEGIN:STANDARD
RRULE:FREQ=YEARLY;BYMONTH=11;BYDAY=1SU
DTSTART:20070101T000000
TZOFFSETFROM:-0700
TZOFFSETTO:-0800
TZNAME:Pacific Standard Time
END:STANDARD
END:VTIMEZONE
BEGIN:VEVENT
DTSTART;TZID=America/Los_Angeles:20260508T090000
DTEND;TZID=America/Los_Angeles:20260508T140000
X-MICROSOFT-CDO-ALLDAYEVENT:FALSE
SUMMARY:First Aid & CPR - Adult & Child - Training & Certification
DESCRIPTION:Learn lifesaving skills as we take a hands-on approach to prepare ourselves and the workplace for emergencies. We will cover the required material outlined by the American Heart Association to include:Understanding and responding to cardiac arrestCPR TechniquesHow and when to use an AEDChoking reliefLegal considerations and understandoning the Good Samaritan LawsRegister Online - https://www.bbsi.com/business-owner-resources/events/bbsi-southern-oregon-first-aid-cpr-adult-child-training-certification
X-ALT-DESC;FMTTYPE=text/html:<!DOCTYPE html><html><head><title></title></head><body aria-disabled="false"><p style="box-sizing: border-box\; scroll-margin-top: 90px\; margin-bottom: 1.55556rem\; margin-top: 0px\; color: rgb(0\, 47\, 96) !important\; font-family: Lato\; font-size: 20px\; font-style: normal\; font-variant-ligatures: normal\; font-variant-caps: normal\; font-weight: 400\; letter-spacing: normal\; orphans: 2\; text-align: start\; text-indent: 0px\; text-transform: none\; widows: 2\; word-spacing: 0px\; -webkit-text-stroke-width: 0px\; white-space: normal\; background-color: rgb(255\, 255\, 255)\; text-decoration-thickness: initial\; text-decoration-style: initial\; text-decoration-color: initial\;"><span style="box-sizing: border-box\; scroll-margin-top: 90px\; font-family: Arial\, Helvetica\, sans-serif\; font-size: 12px\;">Learn lifesaving skills as we take a hands-on approach to prepare ourselves and the workplace for emergencies. We will cover the required material outlined by the American Heart Association to include:</span></p><ul fr-original-style="box-sizing: border-box\; scroll-margin-top: 90px\; margin-top: 0px\; margin-bottom: 1rem\; padding-left: 2rem\; font-size: 20px\; line-height: 1.15\; list-style: square\; color: rgb(73\, 74\, 82)\; font-family: Lato\; font-style: normal\; font-variant-ligatures: normal\; font-variant-caps: normal\; font-weight: 400\; letter-spacing: normal\; orphans: 2\; text-align: start\; text-indent: 0px\; text-transform: none\; widows: 2\; word-spacing: 0px\; -webkit-text-stroke-width: 0px\; white-space: normal\; background-color: rgb(255\, 255\, 255)\; text-decoration-thickness: initial\; text-decoration-style: initial\; text-decoration-color: initial\;" style="box-sizing: border-box\; scroll-margin-top: 90px\; margin-top: 0px\; margin-bottom: 1rem\; padding-left: 2rem\; font-size: 20px\; line-height: 1.15\; list-style: square\; color: rgb(73\, 74\, 82)\; font-family: Lato\; font-style: normal\; font-variant-ligatures: normal\; font-variant-caps: normal\; font-weight: 400\; letter-spacing: normal\; orphans: 2\; text-align: start\; text-indent: 0px\; text-transform: none\; widows: 2\; word-spacing: 0px\; -webkit-text-stroke-width: 0px\; white-space: normal\; background-color: rgb(255\, 255\, 255)\; text-decoration-thickness: initial\; text-decoration-style: initial\; text-decoration-color: initial\;"><li style="box-sizing: border-box\; scroll-margin-top: 90px\; font-size: 12px\; line-height: 1.15\; font-family: Arial\, Helvetica\, sans-serif\; font-style: normal\; font-weight: 400\; text-decoration: none\; margin-bottom: 0.555556rem\;"><span style="box-sizing: border-box\; scroll-margin-top: 90px\;">Understanding and responding to cardiac arrest</span></li><li style="box-sizing: border-box\; scroll-margin-top: 90px\; font-size: 12px\; line-height: 1.15\; font-family: Arial\, Helvetica\, sans-serif\; font-style: normal\; font-weight: 400\; text-decoration: none\; margin-bottom: 0.555556rem\;"><span style="box-sizing: border-box\; scroll-margin-top: 90px\;">CPR Techniques</span></li><li style="box-sizing: border-box\; scroll-margin-top: 90px\; font-size: 12px\; line-height: 1.15\; font-family: Arial\, Helvetica\, sans-serif\; font-style: normal\; font-weight: 400\; text-decoration: none\; margin-bottom: 0.555556rem\;"><span style="box-sizing: border-box\; scroll-margin-top: 90px\;">How and when to use an AED</span></li><li style="box-sizing: border-box\; scroll-margin-top: 90px\; font-size: 12px\; line-height: 1.15\; font-family: Arial\, Helvetica\, sans-serif\; font-style: normal\; font-weight: 400\; text-decoration: none\; margin-bottom: 0.555556rem\;"><span style="box-sizing: border-box\; scroll-margin-top: 90px\;">Choking relief</span></li><li style="box-sizing: border-box\; scroll-margin-top: 90px\; font-size: 12px\; line-height: 1.15\; font-family: Arial\, Helvetica\, sans-serif\; font-style: normal\; font-weight: 400\; text-decoration: none\; margin-bottom: 0.555556rem\;"><span style="box-sizing: border-box\; scroll-margin-top: 90px\;">Legal considerations and understand<span style="color: rgb(0\, 0\, 0)\; font-style: normal\; font-variant-ligatures: normal\; font-variant-caps: normal\; font-weight: 400\; letter-spacing: normal\; orphans: 2\; text-align: start\; text-indent: 0px\; text-transform: none\; widows: 2\; word-spacing: 0px\; -webkit-text-stroke-width: 0px\; white-space: normal\; text-decoration-thickness: initial\; text-decoration-style: initial\; text-decoration-color: initial\; float: none\; display: inline !important\;">on</span>ing the Good Samaritan Laws</span></li></ul><p><span style="box-sizing: border-box\; scroll-margin-top: 90px\;"><span style="font-family: Arial\, Helvetica\, sans-serif\; font-size: 12px\;">Register Online - https://www.bbsi.com/business-owner-resources/events/bbsi-southern-oregon-first-aid-cpr-adult-child-training-certification</span><br></span></p></body></html>
LOCATION:2045 Cardinal Ave Medford OR
UID:e.3649.1438503
SEQUENCE:3
DTSTAMP:20260421T110645Z
URL:https://business.medfordchamber.com/chamber-event-calendar/Details/first-aid-cpr-adult-child-training-certification-1702630?sourceTypeId=Hub
END:VEVENT
END:VCALENDAR
