BEGIN:VCALENDAR
VERSION:2.0
PRODID:-//ChamberMaster//Event Calendar 2.0//EN
METHOD:PUBLISH
X-PUBLISHED-TTL:P1H
REFRESH-INTERVAL:P1H
CALSCALE:GREGORIAN
BEGIN:VTIMEZONE
TZID:America/Los_Angeles
BEGIN:DAYLIGHT
RRULE:FREQ=YEARLY;BYMONTH=3;BYDAY=2SU
DTSTART:20070101T000000
TZOFFSETFROM:-0800
TZOFFSETTO:-0700
TZNAME:Pacific Daylight Time
END:DAYLIGHT
BEGIN:STANDARD
RRULE:FREQ=YEARLY;BYMONTH=11;BYDAY=1SU
DTSTART:20070101T000000
TZOFFSETFROM:-0700
TZOFFSETTO:-0800
TZNAME:Pacific Standard Time
END:STANDARD
END:VTIMEZONE
BEGIN:VEVENT
DTSTART;TZID=America/Los_Angeles:20260513T090000
DTEND;TZID=America/Los_Angeles:20260513T120000
X-MICROSOFT-CDO-ALLDAYEVENT:FALSE
SUMMARY:Marketing Mindset
DESCRIPTION:Learn practical marketing techniques that you can take directly into your business to start growing your revenue immediately. The marketing mindset was designed to get you in the same frame of mind that has generated billions dollars in sales for our partners and clients over the last decade. This masterclass starts with honing in on committing to your targets first\, then ends with practical marketing "how to's" that you can take directly into your business to start growing your revenue immediately. Register here - BBSI Southern Oregon - Marketing Mindset Monthly
X-ALT-DESC;FMTTYPE=text/html:<!DOCTYPE html><html><head><title></title></head><body aria-disabled="false"><p><span style="box-sizing: border-box\; scroll-margin-top: 90px\; color: rgb(73\, 74\, 82)\; font-family: Arial\, Helvetica\, sans-serif\; font-size: 12px\; font-style: normal\; font-variant-ligatures: normal\; font-variant-caps: normal\; font-weight: 400\; letter-spacing: normal\; orphans: 2\; text-align: start\; text-indent: 0px\; text-transform: none\; widows: 2\; word-spacing: 0px\; -webkit-text-stroke-width: 0px\; white-space: normal\; background-color: rgb(255\, 255\, 255)\; text-decoration-thickness: initial\; text-decoration-style: initial\; text-decoration-color: initial\;">Learn practical marketing techniques that you can take directly into your business to start growing your revenue immediately.&nbsp\;</span><span style="font-family: Arial\,Helvetica\,sans-serif\;"><span style="font-size: 12px\;"><span style="color: rgb(73\, 74\, 82)\; font-style: normal\; font-variant-ligatures: normal\; font-variant-caps: normal\; font-weight: 400\; letter-spacing: normal\; orphans: 2\; text-align: start\; text-indent: 0px\; text-transform: none\; widows: 2\; word-spacing: 0px\; -webkit-text-stroke-width: 0px\; white-space: normal\; background-color: rgb(255\, 255\, 255)\; text-decoration-thickness: initial\; text-decoration-style: initial\; text-decoration-color: initial\; float: none\; display: inline !important\;">The marketing mindset was designed to get you in the same frame of mind that has generated billions dollars in sales for our partners and clients over the last decade. This masterclass starts with honing in on committing to your targets first\, then ends with practical marketing &quot\;how to&#39\;s&quot\; that you can take directly into your business to start growing your revenue immediately.</span>&nbsp\;</span></span></p><p><span style="font-family: Arial\,Helvetica\,sans-serif\;"><span style="font-size: 12px\;">Register here - <a fr-original-style="" href="https://www.bbsi.com/business-owner-resources/events/bbsi-southern-oregon-marketing-mindset-monthly" style="user-select: auto\;">BBSI Southern Oregon - Marketing Mindset Monthly</a>&nbsp\;</span></span></p></body></html>
LOCATION:
UID:e.3649.1439072
SEQUENCE:3
DTSTAMP:20260421T105459Z
URL:https://business.medfordchamber.com/chamber-event-calendar/Details/marketing-mindset-1703291?sourceTypeId=Hub
END:VEVENT
END:VCALENDAR
