BEGIN:VCALENDAR
VERSION:2.0
PRODID:-//ChamberMaster//Event Calendar 2.0//EN
METHOD:PUBLISH
X-PUBLISHED-TTL:P1H
REFRESH-INTERVAL:P1H
CALSCALE:GREGORIAN
BEGIN:VTIMEZONE
TZID:America/Los_Angeles
BEGIN:DAYLIGHT
RRULE:FREQ=YEARLY;BYMONTH=3;BYDAY=2SU
DTSTART:20070101T000000
TZOFFSETFROM:-0800
TZOFFSETTO:-0700
TZNAME:Pacific Daylight Time
END:DAYLIGHT
BEGIN:STANDARD
RRULE:FREQ=YEARLY;BYMONTH=11;BYDAY=1SU
DTSTART:20070101T000000
TZOFFSETFROM:-0700
TZOFFSETTO:-0800
TZNAME:Pacific Standard Time
END:STANDARD
END:VTIMEZONE
BEGIN:VEVENT
DTSTART;TZID=America/Los_Angeles:20261216T090000
DTEND;TZID=America/Los_Angeles:20261216T120000
X-MICROSOFT-CDO-ALLDAYEVENT:FALSE
SUMMARY:Marketing Mindset
DESCRIPTION:Learn practical marketing techniques that you can take directly into your business to start growing your revenue immediately. The marketing mindset was designed to get you in the same frame of mind that has generated billions dollars in sales for our partners and clients over the last decade. This masterclass starts with honing in on committing to your targets first\, then ends with practical marketing "how to's" that you can take directly into your business to start growing your revenue immediately.\nRegister online at BBSI Southern Oregon - Marketing Mindset Monthly
X-ALT-DESC;FMTTYPE=text/html:<!DOCTYPE html><html><head><title></title></head><body aria-disabled="false"><p>Learn practical marketing techniques that you can take directly into your business to start growing your revenue immediately. The marketing mindset was designed to get you in the same frame of mind that has generated billions dollars in sales for our partners and clients over the last decade. This masterclass starts with honing in on committing to your targets first\, then ends with practical marketing &quot\;how to&#39\;s&quot\; that you can take directly into your business to start growing your revenue immediately.</p><p><br></p><p>Register online at <a fr-original-style="" href="https://www.bbsi.com/business-owner-resources/events/bbsi-southern-oregon-marketing-mindset-monthly" style="user-select: auto\;">BBSI Southern Oregon - Marketing Mindset Monthly</a></p></body></html>
LOCATION:
UID:e.3649.1443611
SEQUENCE:3
DTSTAMP:20260421T105315Z
URL:https://business.medfordchamber.com/chamber-event-calendar/Details/marketing-mindset-1709844?sourceTypeId=Hub
END:VEVENT
END:VCALENDAR
