BEGIN:VCALENDAR
VERSION:2.0
PRODID:-//ChamberMaster//Event Calendar 2.0//EN
METHOD:PUBLISH
X-PUBLISHED-TTL:P1H
REFRESH-INTERVAL:P1H
CALSCALE:GREGORIAN
BEGIN:VTIMEZONE
TZID:America/Los_Angeles
BEGIN:DAYLIGHT
RRULE:FREQ=YEARLY;BYMONTH=3;BYDAY=2SU
DTSTART:20070101T000000
TZOFFSETFROM:-0800
TZOFFSETTO:-0700
TZNAME:Pacific Daylight Time
END:DAYLIGHT
BEGIN:STANDARD
RRULE:FREQ=YEARLY;BYMONTH=11;BYDAY=1SU
DTSTART:20070101T000000
TZOFFSETFROM:-0700
TZOFFSETTO:-0800
TZNAME:Pacific Standard Time
END:STANDARD
END:VTIMEZONE
BEGIN:VEVENT
DTSTART;TZID=America/Los_Angeles:20260415T160000
DTEND;TZID=America/Los_Angeles:20260415T170000
X-MICROSOFT-CDO-ALLDAYEVENT:FALSE
SUMMARY:We Know A Guy
DESCRIPTION:We Know a Guy is a social business networking event held at Common Block Brewery in Medford every third Wednesday of the month from 4 PM to 5 PM.\nYour first sip is on us! 🥤🍷🥃🍸☕️\nWe would love to see you there!
X-ALT-DESC;FMTTYPE=text/html:We Know a Guy is a social business networking event held at Common Block Brewery in Medford every third Wednesday of the month from 4 PM to 5 PM.\nYour first sip is on us! 🥤🍷🥃🍸☕️\nWe would love to see you there!
LOCATION:315 E. 5th St. Medford OR 97501
UID:e.3649.1437578
SEQUENCE:3
DTSTAMP:20260421T105108Z
URL:https://business.medfordchamber.com/chamber-event-calendar/Details/we-know-a-guy-1701522?sourceTypeId=Hub
END:VEVENT
END:VCALENDAR
